BEGIN:VCALENDAR
VERSION:2.0
PRODID:-//Dovercourt House - ECPv6.15.20//NONSGML v1.0//EN
CALSCALE:GREGORIAN
METHOD:PUBLISH
X-WR-CALNAME:Dovercourt House
X-ORIGINAL-URL:https://www.dovercourthouse.ca
X-WR-CALDESC:Events for Dovercourt House
REFRESH-INTERVAL;VALUE=DURATION:PT1H
X-Robots-Tag:noindex
X-PUBLISHED-TTL:PT1H
BEGIN:VTIMEZONE
TZID:UTC
BEGIN:STANDARD
TZOFFSETFROM:+0000
TZOFFSETTO:+0000
TZNAME:UTC
DTSTART:20250101T000000
END:STANDARD
END:VTIMEZONE
BEGIN:VTIMEZONE
TZID:America/Toronto
BEGIN:DAYLIGHT
TZOFFSETFROM:-0500
TZOFFSETTO:-0400
TZNAME:EDT
DTSTART:20250309T070000
END:DAYLIGHT
BEGIN:STANDARD
TZOFFSETFROM:-0400
TZOFFSETTO:-0500
TZNAME:EST
DTSTART:20251102T060000
END:STANDARD
BEGIN:DAYLIGHT
TZOFFSETFROM:-0500
TZOFFSETTO:-0400
TZNAME:EDT
DTSTART:20260308T070000
END:DAYLIGHT
BEGIN:STANDARD
TZOFFSETFROM:-0400
TZOFFSETTO:-0500
TZNAME:EST
DTSTART:20261101T060000
END:STANDARD
BEGIN:DAYLIGHT
TZOFFSETFROM:-0500
TZOFFSETTO:-0400
TZNAME:EDT
DTSTART:20270314T070000
END:DAYLIGHT
BEGIN:STANDARD
TZOFFSETFROM:-0400
TZOFFSETTO:-0500
TZNAME:EST
DTSTART:20271107T060000
END:STANDARD
END:VTIMEZONE
BEGIN:VEVENT
DTSTART;TZID=UTC:20260424T200000
DTEND;TZID=UTC:20260426T233000
DTSTAMP:20260423T100831
CREATED:20260312T205518Z
LAST-MODIFIED:20260421T155149Z
UID:12989-1777060800-1777246200@www.dovercourthouse.ca
SUMMARY:Chiara Weekender: From Social to Dance Battles
DESCRIPTION:Train with Chiara Tofani\n\nWhen: Weekend of April 24 to 26\n\nWhere: Dovercourt House  \n805 Dovercourt Rd. Toronto\n \n\n\n\nFrom non-stop social dancing on friday to high-energy\, improvised showdown Salsa battles on Saturday\, relaxed chill Sunday social vibe and Afro Mambo and Musicality training workshops during day on Saturday and Sunday\, this is a weekend you can’t affford to miss.\n\n🌟 Friday Program: SBK Social\n3 Rooms\, 3 Lessons: Salsa Bachata Kizomba\nDance Lessons: 8pm – 10pm\n8pm: Salsa with UnitedSalseros (Main Floor)\n9pm: Bachata with Queen and Andrew (Main Floor)\n9pm: Kizomba with Babs and Nymue (2nd Floor) \n  \nDJs: Timber\, Duck\, Amano and Azhwan \nSocial Dancing from 10pm to 3am in Three Rooms (Salsa Bachata Kizomba) \nCover-Fee: $20 (Lessons included) \n\n Saturday Social and Dance Battle\nLadies and gentlemen\, welcome to Toronto’s exciting Salsa Dance Battle! Get ready for passion\, rhythm\, and electrifying energy on the dance floor. \nIn this competition\, dancers will face off head-to-head in a series of exciting dance battles. Each round will feature two dancers bringing their best salsa moves\, style\, and connection to the floor. The challenge is simple — impress the judges\, captivate the crowd\, and outshine your opponents. \nAt the end of each battle\, only one will move forward\, while the other will be eliminated. The stakes get higher with every round as the competition narrows down to the strongest dancers of the night. \nSo dancers\, bring your rhythm\, your creativity\, and your fire. And audience\, get ready to cheer loud and feel the salsa heat! \nLet the Salsa Dance Battle begin! 💃🔥🕺 \nDance competition begins at 9pm \npre-registeration required and only 20 dancers are accepted. \nSocial Dancing cover-fee: $10 \nDance Battle Participation: $15 \n  \n\nSundaay Social\n\nTwo Rooms\, Two Lessons: Salsa y Bachata\n\nDance Lessons: 6pm – 8pm \n6pm: Multi-Level Salsa Dance Lessons (Beginner\, Intermediate\, Advanced) with UnitedSalseros\n7pm: Bachata Intro with Vinay and Ghazal \nSocial Dancing Salsa with DJ Pablo from 7pm to 11:30pm and Bachata with DJ Mondo from 8pm to 11pm \nCover-fee: $15 \n\n✨Training and workshops with Chiara Tofani (5 workshops)\n\nBody Movements and Isolation (Beginner Friendly\, recommended to everyone) Saturday 12pm\nMusicality – Understanding rhythm and expression (Beginner Friendly\, recommended to everyone) Saturday 1pm\nAfro Mambo Foundation and styling (intermediate-advance dancers) Sunday 1pm\nMusicality from Phrasing to Social Dancing (Intermediate advance dancers) Sunday 2pm\nMusicality from dynamic to music interpretations for Choreography Sunday 3pm\n\n\nEarly Bird Full-Pass (All socials and workshops included) $150 — SOLD OUT \nAdvance Ticket Full-Pass (All socials and workshops included) $165 \nIndividual Workshop at the door: $45 \n\n\n\n \n\nChiara Weekender FullPass \n$165.00 \nPay now \n\n  \n\n \n\n 
URL:https://www.dovercourthouse.ca/event/chiara/
LOCATION:Dovercourt House\, 805 Dovercourt Road\, Toronto\, Ontario\, Canada
ATTACH;FMTTYPE=image/jpeg:https://www.dovercourthouse.ca/wp-content/uploads/2026/03/friday-all-stars-halloween-CHIARA-WEEKENDER-e1773348969332.jpg
END:VEVENT
BEGIN:VEVENT
DTSTART;TZID=UTC:20260425T193000
DTEND;TZID=UTC:20260426T020000
DTSTAMP:20260423T100831
CREATED:20260419T174405Z
LAST-MODIFIED:20260421T005802Z
UID:13055-1777145400-1777168800@www.dovercourthouse.ca
SUMMARY:SalsaNaMa Battle and Social
DESCRIPTION:🔥 SalsaNaMa Dance Competition – April 25 🔥\nGet ready for an unforgettable night of rhythm\, passion\, and world-class talent at the SalsaNaMa Dance Competition this Saturday\, April 25! 💃🕺 \nWe are thrilled to welcome our international guest judge\, Queen Chiara Tofani from Italy\, bringing her expertise\, elegance\, and global perspective to the stage. This is your chance to perform\, compete\, and shine in front of one of the best in the dance world! \n✨ What to Expect:\n• High-energy performances from talented dancers\n• A vibrant atmosphere filled with music and culture\n• Expert judging and valuable feedback\n• An incredible community of salsa lovers \nWhether you’re competing or cheering from the audience\, this is a night you don’t want to miss. Bring your passion\, bring your energy\, and let’s make it a celebration of dance! \n📅 Date: Saturday\, April 25\n📍 Event: SalsaNaMa Dance Competition \nLet the music move you—see you on the dance floor! 🎶🔥 \n  \nLoading… \n  \n\nSocial Dancing will begin at 10pm with DJ Nilson\, Azhwan and friends\nSocial Cover-Fee: $10 \n\n  \n\nNo outside drinks are allowed | \nFREE self-service Coat-check (You are responsible for your own stuff). \nAddress: 805 Dovercourt Rd.\, Toronto   (walking distance from Ossington Subway Station) \n— 𝐒𝐭𝐫𝐞𝐞𝐭 𝐏𝐚𝐫𝐤𝐢𝐧𝐠 𝐚𝐧𝐝 𝐏𝐚𝐢𝐝 𝐏𝐚𝐫𝐤𝐢𝐧𝐠 —\nYou can park on Dovercourt Rd until Midnight\, you can park on Bloor st after midnight without restriction.\nThere are couple of Paid parking spaces near our venue: \n\n1022 Bloor St W\n1048 Bloor St W\n9 Salem Ave (Green P)\n7 Bartlett Ave (CarPark)\n745 Ossington Ave (Green P)
URL:https://www.dovercourthouse.ca/event/salsanama/
LOCATION:Dovercourt House\, 805 Dovercourt Road\, Toronto\, Ontario\, Canada
ATTACH;FMTTYPE=image/jpeg:https://www.dovercourthouse.ca/wp-content/uploads/2026/04/SalsaNaMa-competition.jpg
END:VEVENT
BEGIN:VEVENT
DTSTART;TZID=America/Toronto:20260426T174500
DTEND;TZID=America/Toronto:20260426T233000
DTSTAMP:20260423T100831
CREATED:20250915T192916Z
LAST-MODIFIED:20260419T175914Z
UID:12775-1777225500-1777246200@www.dovercourthouse.ca
SUMMARY:Sunday Social Featuring Chiara Tofani
DESCRIPTION:Join us each and every Sunday at Dovercourt House\, where we are giving you the best of Salsa y Bachata. \nDate and Time: Sunday 5:45pm to 11:30pm \nDoors open at 5:45pm \nDance Lessons at 6pm \n\nMulti Levels Salsa Lessons at 6pm by UnitedSalseros  (beginner\, Intermediate\, Advance)\n Bachata Lesson by Vinay and Ghazal at 7pm \n\nSocial Dancing: 2 Rooms\, 2 DJs \nSalsa Music by DJ Pablo (First Floor) 7pm – 11pm \nBachata Music by DJ Mondo (2nd Floor) 8pm – 11pm \n  \n  Cover – Fee: $15 \n  \n  \nAddress: 805 Dovercourt Rd.\, Toronto   (walking distance from Ossington Subway Station) \n  \n— 𝐒𝐭𝐫𝐞𝐞𝐭 𝐏𝐚𝐫𝐤𝐢𝐧𝐠 𝐚𝐧𝐝 𝐏𝐚𝐢𝐝 𝐏𝐚𝐫𝐤𝐢𝐧𝐠 — You can park on Dovercourt Rd until Midnight\, you can park on Bloor st after midnight without restriction. There are couple of Paid parking spaces near our venue: \n\n1022 Bloor St W\n1048 Bloor St W\n9 Salem Ave (Green P)\n7 Bartlett Ave (CarPark)\n745 Ossington Ave (Green P)
URL:https://www.dovercourthouse.ca/event/kiz4/
LOCATION:Dovercourt House\, 805 Dovercourt Road\, Toronto\, Ontario\, Canada
ATTACH;FMTTYPE=image/jpeg:https://www.dovercourthouse.ca/wp-content/uploads/2024/02/sunday-e1728436810165.jpg
END:VEVENT
BEGIN:VEVENT
DTSTART;TZID=America/Toronto:20260501T200000
DTEND;TZID=America/Toronto:20260503T233000
DTSTAMP:20260423T100831
CREATED:20251226T171940Z
LAST-MODIFIED:20260420T232433Z
UID:12917-1777665600-1777851000@www.dovercourthouse.ca
SUMMARY:Bachata Queens Weekender: Alma\, Emilia and Raquel
DESCRIPTION:🔥3 Queens\, 1 realm: Bachata🔥\nTrain with the women redefining feminine movement in Bachata \nFriday Social: 3 Rooms\, 3 Dance Lessons one epic opening party\nDance Lessons: 8pm – 10pm\n8pm: Salsa with UnitedSalseros (Main Floor)\n9pm: Bachata Fusion with Vinay and Ghazal (Main Floor)\n9pm: Bachata Traditional with TBA (basement) \n  \nDJs: Pablo\, Duck\, Mondo \nSocial Dancing from 10pm to 3am in Three Rooms \nCover-Fee: $20 (Lessons included) \n\n\nArtist Workshops and tickets\nDate: May 1-2-3\, 2026\nLevel up your styling\, technique\, and confidence in one powerful weekend\, Where sensuality meets precision — learn from Europe’s finest. \nGet ready for: \n\n💃 High-energy\, inspiring bachata workshops for dancers looking to level up\n🎶 Nonstop social dancing with unforgettable vibes\n🌍 A rare chance to experience the fresh international style that’s taking bachata world with surprise\n\nBachaZouk Intensive with Raquel\, Bachata Ladies styling\, Musicality and Techniques with Alma and Emilia\nJack and Jill Skills with Raquel the queen champion of Jack and Jills. \nFull Pass includes 8hrs of intensive workshops with the artists\, 3 nights of Social dancing  \nWorkshop Details: \n1- Jack and Jill techniques with Raquel Abs (Friday May 1st at 9pm) for both leaders and followers \n2- Bachata Musicality Part 1: Phrasing with Emilia (Saturday 12pm) for any bachata dancer \n3- Bachata Musicality Part 2: Dynamic & interpretation with Alma (Saturday 1pm) you would need to know part 1 \n4- Ladies Styling with Emilia (Saturday 2pm) \n5- Bachata Sensual Techniques with Alma (Saturday 3pm) \n6- BachaZouk Basic nd Fundamental Concepts by Raquel (Sunday 1pm) \n7-BachaZouk Intermediate by Raquel (Sunday 2pm) \n8-BachaZouk Advanced and Master Concept by Raquel (Sunday 3pm) \n  \n  \nEarly Bird Tickets: Full Pass (Workshops and Socials included)  $150 SOLD OUT \nAdvance Discounted Ticket: Full Pass (Workshops and Socials included) $160 until April 24th \n  \n\n\n \n\nBachata Queens Weekender with Alma\, Emilia and Raquel Full-Pass \n$160.00 \nPay now \n\n  \n\n \n\nIndividual Workshops at the door: $40 each \n  \n 
URL:https://www.dovercourthouse.ca/event/3queens/
LOCATION:Dovercourt House\, 805 Dovercourt Road\, Toronto\, Ontario\, Canada
ATTACH;FMTTYPE=image/jpeg:https://www.dovercourthouse.ca/wp-content/uploads/2025/12/1200x628-e1773205264551.jpg
END:VEVENT
BEGIN:VEVENT
DTSTART;TZID=UTC:20260502T193000
DTEND;TZID=UTC:20260503T020000
DTSTAMP:20260423T100831
CREATED:20241031T230224Z
LAST-MODIFIED:20260422T161442Z
UID:12409-1777750200-1777773600@www.dovercourthouse.ca
SUMMARY:Bachata Jack & Jill
DESCRIPTION:🔥 Bachata Jack & Jill Competition – Saturday\, May 2nd 🔥 \nGet ready for an unforgettable night of musicality\, connection\, and pure bachata magic! On Saturday\, May 2nd\, we’re bringing you an electrifying Bachata Jack & Jill Competition judged by internationally renowned artists Raquel\, Alma and Emilia. \nThis isn’t just a competition — it’s a celebration of creativity\, spontaneity\, and authentic connection on the dance floor. \n💃 What is Jack & Jill?\nIn true Jack & Jill format\, leaders and followers are randomly paired\, music is chosen at random\, and competitors must adapt on the spot. No choreography. No pre-planned routines. Just real social dancing skills\, musicality\, and chemistry. \n🌍 International Guest Judges\nWe are honored to host internationally recognized bachata artists and judges who will bring their expertise\, artistry\, and global perspective to the competition. Their presence guarantees high standards\, professional feedback\, and an inspiring experience for both competitors and spectators. \n🏆 What We’re Looking For\nMusicality \nConnection & Partnering \nTechnique & Timing \nCreativity & Interpretation \nStage Presence & Energy \nWhether you’re competing or cheering from the crowd\, this event promises high-level dancing\, unforgettable moments\, and an atmosphere full of passion. \n🎶 Who Should Join?\nSocial dancers ready to challenge themselves \nCompetitors looking to showcase their skills \nBachata lovers who want to witness top-tier improvisation \nMark your calendars for Saturday\, May 2nd— and come experience bachata at its most authentic and exciting. \n✨ Spots are limited. Sign up\, show up\, and let the music decide. \n\n\n\n\n\nSign-up: please sign up below and choose your category “Amateur” or “Semi-Pro”\nAmateur: Anyone with less than a year experience who is consider herself/himself intermediate dancer with early-stage competition experience. \nSemi-Pro/Pro: Advance dancers\, teachers\, experienced performers and dancers with more competition experiences \n  \nCompetition starts at 8pm\, participants are required to arrive at 7:30pm. \n\nLoading… \n  \n\nSocial Dancing will begin at 10pm with DJ Mondo and friends\nJ&J competition Cover-Fee: $15 (this is not included in Full-Pass) \nSocial Cover-Fee (Two Rooms): $15 \n\n  \n\nNo outside drinks are allowed | \nFREE self-service Coat-check (You are responsible for your own stuff). \nAddress: 805 Dovercourt Rd.\, Toronto   (walking distance from Ossington Subway Station) \n— 𝐒𝐭𝐫𝐞𝐞𝐭 𝐏𝐚𝐫𝐤𝐢𝐧𝐠 𝐚𝐧𝐝 𝐏𝐚𝐢𝐝 𝐏𝐚𝐫𝐤𝐢𝐧𝐠 —\nYou can park on Dovercourt Rd until Midnight\, you can park on Bloor st after midnight without restriction.\nThere are couple of Paid parking spaces near our venue: \n\n1022 Bloor St W\n1048 Bloor St W\n9 Salem Ave (Green P)\n7 Bartlett Ave (CarPark)\n745 Ossington Ave (Green P)
URL:https://www.dovercourthouse.ca/event/jackjill/
LOCATION:Dovercourt House\, 805 Dovercourt Road\, Toronto\, Ontario\, Canada
ATTACH;FMTTYPE=image/jpeg:https://www.dovercourthouse.ca/wp-content/uploads/2024/10/Jack-and-Jill-Raquel-Alma-Emilia-e1776619108646.jpg
END:VEVENT
BEGIN:VEVENT
DTSTART;TZID=America/Toronto:20260503T180000
DTEND;TZID=America/Toronto:20260504T000000
DTSTAMP:20260423T100831
CREATED:20240826T171130Z
LAST-MODIFIED:20260420T232822Z
UID:12294-1777831200-1777852800@www.dovercourthouse.ca
SUMMARY:Sunday Social Showcase
DESCRIPTION:Join us each and every Sunday at Dovercourt House\, where we are giving you the best of Salsa y Bachata. \nDate and Time: Sundays From 5:45pm to 11:30pm \nDoor open at 5:45pm \nDance Lessons (at 6pm):  \n6pm: Multi Level Salsa Dance Lessons at 6pm by UnitedSalseros Teachers Teddy and his instructors will teach (beginner\, Intermediate\, Advance) Multi Levels Salsa dance lessons. \n7pm: Bachata Lesson by Queen and Andrew at 7pm (Main Floor) \n \nSalsa Bachata Social Dancing: 7pm to 11:30pm\nTwo Rooms (summer Schedule):  \nRoom 1: Salsa by DJ Timber; 7:30pm – 11:30pm \nRoom 2: Bachata by DJ Mondo: 8pm – 11:30pm \nShows at 8pm:  \n1- Amora Dance Company \n  \nCover – Fee: $15 ($5 discount with Friday unbroken Wristband or Pre-registration on Friday ) \n  \n  \nAddress: 805 Dovercourt Rd.\, Toronto   (walking distance from Ossington Subway Station) \n— 𝐒𝐭𝐫𝐞𝐞𝐭 𝐏𝐚𝐫𝐤𝐢𝐧𝐠 𝐚𝐧𝐝 𝐏𝐚𝐢𝐝 𝐏𝐚𝐫𝐤𝐢𝐧𝐠 — \nYou can park on Dovercourt Rd until Midnight\, you can park on Bloor st after midnight without restriction. There are couple of Paid parking spaces near our venue: \n\n1022 Bloor St W\n1048 Bloor St W\n9 Salem Ave (Green P)\n7 Bartlett Ave (CarPark)\n745 Ossington Ave (Green P)\n\n 
URL:https://www.dovercourthouse.ca/event/sunday1st/
LOCATION:Dovercourt House\, 805 Dovercourt Road\, Toronto\, Ontario\, Canada
ATTACH;FMTTYPE=image/jpeg:https://www.dovercourthouse.ca/wp-content/uploads/2024/02/sunday-e1728436810165.jpg
END:VEVENT
BEGIN:VEVENT
DTSTART;TZID=America/Toronto:20260508T193000
DTEND;TZID=America/Toronto:20260509T030000
DTSTAMP:20260423T100831
CREATED:20250225T164611Z
LAST-MODIFIED:20260413T071524Z
UID:12573-1778268600-1778295600@www.dovercourthouse.ca
SUMMARY:Friday SBK All Stars
DESCRIPTION:****** Fridays at Dovercourt House********\n\n\n\n\n\n\n\n\n\nLESSON\, SOCIAL AND PARTY\n\n\n\n  \n\n\n\n\n\n\n\n\n— From 8pm to 3am\n\n\n\nDJs: DJ Timber (Salsa)\,  DJ Duck (Bachata)\, DJ NS (Kizomba)\n\n\n𝐃𝐚𝐧𝐜𝐞 𝐥𝐞𝐬𝐬𝐨𝐧𝐬 (8PM – 10PM):\n\n\n8pm: Intro to Salsa\n\n9pm: Bachata fundamental by Queen and Andrew\n9:15pm: Kizomba by Babs and Nymue\n\n\n\n\nDANCE PARTY (10PM – 3AM):\n\n\nSalsa\, Bachata\, Kizomba (3 Rooms)\n\n\n\n\n\n\n\n\n\nSocial Dancing in two 𝐫𝐨𝐨𝐦𝐬: 10pm -2am\n\n\nSocial dancing is the best part of our event\, you don’t want to miss it.\n\n\n****************************************************************\n\n\n  \nDate: Friday May 8\, 2026\n\n\n\n\nCover-fee: $15 (Lessons included)\n\n\n\n\nDoors open at 7:45pm\n\n\nLOCATION: Dovercourt House\n\n\n\n805 Dovercourt Rd.\, Toronto\n\n\n\n\n\nLicensed event (19+) – No outside drinks are allowed / Media Recording Only by official videographer/photographers\n\n\n\n\n\nFREE self-service Coat-check (You are responsible for your own stuff)\n\n\n\n****************************************************************\n\n— 𝐒𝐭𝐫𝐞𝐞𝐭 𝐏𝐚𝐫𝐤𝐢𝐧𝐠 𝐚𝐧𝐝 𝐏𝐚𝐢𝐝 𝐏𝐚𝐫𝐤𝐢𝐧𝐠 —\nYou can park on Dovercourt Rd until Midnight\, you can park on Bloor st after midnight without restriction.\nThere are couple of Paid parking spaces near our venue: \n\n1022 Bloor St W\n1048 Bloor St W\n9 Salem Ave (Green P)\n7 Bartlett Ave (CarPark)\n745 Ossington Ave (Green P)
URL:https://www.dovercourthouse.ca/event/sbk2/
LOCATION:Dovercourt House\, 805 Dovercourt Road\, Toronto\, Ontario\, Canada
ATTACH;FMTTYPE=image/jpeg:https://www.dovercourthouse.ca/wp-content/uploads/2025/02/sbk.jpg
END:VEVENT
BEGIN:VEVENT
DTSTART;TZID=America/Toronto:20260510T173000
DTEND;TZID=America/Toronto:20260510T233000
DTSTAMP:20260423T100831
CREATED:20240214T231444Z
LAST-MODIFIED:20260413T071538Z
UID:12022-1778434200-1778455800@www.dovercourthouse.ca
SUMMARY:Sunday Social with Salsa & Bachata Lessons
DESCRIPTION:Join us each and every Sunday at Dovercourt House\, where we are giving you the best of Salsa Bachata and Kizomba. \nDate and Time: Sunday 5:30pm to 11pm \nDance Lessons at 6pm \n\nMulti Levels Salsa Lessons at 6pm by UnitedSalseros  (beginner\, Intermediate\, Advance)\n Bachata Lesson by Team Movements at 7:15pm \n\nSocial Dancing: 2 Rooms\, 2 DJs \nSalsa Music by DJ Pablo (First Floor) 7pm – 11pm \nBachata Music by DJ Mondo (2nd Floor) 7pm – 11pm \n  \n  \n  Cover – Fee: $15 ($5 discount with Friday unbroken wristband or otherwise pre-register on Friday) \n  \n  \nAddress: 805 Dovercourt Rd.\, Toronto   (walking distance from Ossington Subway Station) \n  \n— 𝐒𝐭𝐫𝐞𝐞𝐭 𝐏𝐚𝐫𝐤𝐢𝐧𝐠 𝐚𝐧𝐝 𝐏𝐚𝐢𝐝 𝐏𝐚𝐫𝐤𝐢𝐧𝐠 — You can park on Dovercourt Rd until Midnight\, you can park on Bloor st after midnight without restriction. There are couple of Paid parking spaces near our venue: \n\n1022 Bloor St W\n1048 Bloor St W\n9 Salem Ave (Green P)\n7 Bartlett Ave (CarPark)\n745 Ossington Ave (Green P)
URL:https://www.dovercourthouse.ca/event/sundaysocial/
LOCATION:Ontario
ATTACH;FMTTYPE=image/jpeg:https://www.dovercourthouse.ca/wp-content/uploads/2024/02/sunday-e1728436810165.jpg
END:VEVENT
BEGIN:VEVENT
DTSTART;TZID=America/Toronto:20260515T193000
DTEND;TZID=America/Toronto:20260516T030000
DTSTAMP:20260423T100831
CREATED:20240419T160035Z
LAST-MODIFIED:20260413T071611Z
UID:12088-1778873400-1778900400@www.dovercourthouse.ca
SUMMARY:Friday Latin Fusion
DESCRIPTION:Where: \n\nDovercourt House\, 805 Dovercourt Rd. Toronto\n \n\nLesson: 8:00pm – 10:00pm\nSocial: 10:00pm – 3:00am\n  \nTwo hours Dance Lessons and Two Party Rooms. \nDJ Duck and DJ Pablo will be spinning your favorite salsa and bachata tunes. Social dancing is the best part of our event\, you don’t want to miss it. \nDance lessons by:\n8pm: (Room1) Salsa by TBA\n9pm: (Room1) Bachata Fundamental by Teddy and United Crew\n9pm: (Room2) Bachata Intermediate by Team Movements \n  \nCover – Fee: $15 (No advance tickets\, it is a Walk-in event) \nNo outside drinks are allowed | Media Recording Only by official videographer/photographers \nFREE self-service Coat-check (You are responsible for your own stuff). \nAddress: 805 Dovercourt Rd.\, Toronto   (walking distance from Ossington Subway Station) \n— 𝐒𝐭𝐫𝐞𝐞𝐭 𝐏𝐚𝐫𝐤𝐢𝐧𝐠 𝐚𝐧𝐝 𝐏𝐚𝐢𝐝 𝐏𝐚𝐫𝐤𝐢𝐧𝐠 —\nYou can park on Dovercourt Rd until Midnight\, you can park on Bloor st after midnight without restriction.\nThere are couple of Paid parking spaces near our venue: \n\n1022 Bloor St W\n1048 Bloor St W\n9 Salem Ave (Green P)\n7 Bartlett Ave (CarPark)\n745 Ossington Ave (Green P)\n\n\n \n 
URL:https://www.dovercourthouse.ca/event/fusion3/
LOCATION:Dovercourt House\, 805 Dovercourt Road\, Toronto\, Ontario\, Canada
ATTACH;FMTTYPE=image/png:https://www.dovercourthouse.ca/wp-content/uploads/2024/04/Fusion-general-e1735578420323.png
END:VEVENT
BEGIN:VEVENT
DTSTART;TZID=America/Toronto:20260517T173000
DTEND;TZID=America/Toronto:20260517T233000
DTSTAMP:20260423T100831
CREATED:20230925T182000Z
LAST-MODIFIED:20260413T071623Z
UID:11771-1779039000-1779060600@www.dovercourthouse.ca
SUMMARY:Sunday Social Salsa Bachata Mid-Day
DESCRIPTION:Join us each and every Sunday at Dovercourt House\, where we are giving you the best of Salsa y Bachata. \nDate and Time: Sunday 5:45pm to 11pm \nDance Lessons at 6pm \n\nMulti-Level Salsa Lessons at 6pm by UnitedSalseros  (beginner\, Intermediate\, Advance)\nBachata Lesson by Queen and Andrew 7:10pm to 8pm (2nd floor)\n\nSocial Dancing: 2 Rooms\, 2 DJs \nSalsa Music by DJ Timber (First Floor) 7pm – 11pm \nBachata Music by DJ Mondo (2nd Floor) 8pm – 11pm \n  \n  \n  Cover – Fee: $15 ($5 discount with Friday unbroken wristband or otherwise pre-register on Friday) \n  \n  \nAddress: 805 Dovercourt Rd.\, Toronto   (walking distance from Ossington Subway Station) \n  \n— 𝐒𝐭𝐫𝐞𝐞𝐭 𝐏𝐚𝐫𝐤𝐢𝐧𝐠 𝐚𝐧𝐝 𝐏𝐚𝐢𝐝 𝐏𝐚𝐫𝐤𝐢𝐧𝐠 — You can park on Dovercourt Rd until Midnight\, you can park on Bloor st after midnight without restriction. There are couple of Paid parking spaces near our venue: \n\n1022 Bloor St W\n1048 Bloor St W\n9 Salem Ave (Green P)\n7 Bartlett Ave (CarPark)\n745 Ossington Ave (Green P)
URL:https://www.dovercourthouse.ca/event/sunday-social-salsa-bachata/
LOCATION:Dovercourt House\, 805 Dovercourt Road\, Toronto\, Ontario\, Canada
ATTACH;FMTTYPE=image/jpeg:https://www.dovercourthouse.ca/wp-content/uploads/2023/09/shit-e1728436810165.jpg
END:VEVENT
BEGIN:VEVENT
DTSTART;TZID=America/Toronto:20260522T193000
DTEND;TZID=America/Toronto:20260523T030000
DTSTAMP:20260423T100831
CREATED:20240112T011503Z
LAST-MODIFIED:20260413T071713Z
UID:11998-1779478200-1779505200@www.dovercourthouse.ca
SUMMARY:Friday SBK All Stars
DESCRIPTION:****** Fridays at Dovercourt House********\n𝐓𝐡𝐢𝐬 𝐅𝐫𝐢𝐝𝐚𝐲 – 𝘚𝘢𝘭𝘴𝘢\, 𝘉𝘢𝘤𝘩𝘢𝘵𝘢⁣⁣⁣⁣⁣⁣⁣⁣⁣⁣⁣⁣⁣⁣⁣⁣⁣⁣⁣⁣⁣⁣⁣⁣⁣⁣⁣⁣⁣⁣⁣⁣⁣⁣⁣⁣⁣⁣⁣⁣⁣⁣⁣⁣⁣⁣⁣⁣⁣⁣⁣⁣⁣⁣⁣⁣⁣⁣⁣⁣⁣⁣⁣⁣⁣⁣⁣⁣⁣⁣⁣⁣⁣⁣⁣⁣⁣⁣⁣⁣⁣⁣⁣⁣⁣⁣⁣⁣⁣⁣⁣⁣⁣⁣⁣⁣⁣⁣⁣⁣⁣⁣⁣⁣⁣⁣⁣⁣⁣⁣⁣⁣⁣⁣⁣⁣⁣⁣⁣⁣ Kizomba 𝐒𝐨𝐜𝐢𝐚𝐥⁣⁣⁣⁣⁣\n\n\n\n\n\n\n\n\n3 Rooms\, 3 Lessons: SBK\n\n\n\n  \n\n\n\n\n\n\n\n\n— From 8pm to 3am\n\n\n\nDJs: DJ Timber \,DJ Azh\, DJ Duck\, DJ NS (Newton)\n\n\n3 𝐃𝐚𝐧𝐜𝐞 𝐥𝐞𝐬𝐬𝐨𝐧𝐬 (8PM – 10PM):\n\n\n8pm: Intro to Salsa by Cadence dance academy\n\n\n9pm: Bachata Fusion by Queen and Andrew \n9:15pm-10pm: Kizomba by Babs and Nymue \n  \n\n\n\n\n\nDANCE PARTY (10PM – 3AM):\n\n\nSalsa\, Bachata\, Kizomba\n\n\n\n\n\n\n\n\n\nSocial Dancing in three 𝐫𝐨𝐨𝐦𝐬: 10pm – 3am\n\n\nSocial dancing is the best part of our event\, you don’t want to miss it.\n\n\n****************************************************************\n\n\n  \nDate: Friday May 22\n\n\n\n\nCover-fee: $15 (Salsa & Bachata Lessons included – Kizomba intensive is seperate fee)\n\n\n\n\nDoors open at 7:45pm\n\n\nLOCATION: Dovercourt House\n\n\n\n805 Dovercourt Rd.\, Toronto\n\n\n\n\n\nLicensed event (19+) – No outside drinks are allowed\n\n\n\n\n\nFREE self-service Coat-check (You are responsible for your own stuff)\n\n\n\n****************************************************************\n\n\n— 𝐒𝐭𝐫𝐞𝐞𝐭 𝐏𝐚𝐫𝐤𝐢𝐧𝐠 𝐚𝐧𝐝 𝐏𝐚𝐢𝐝 𝐏𝐚𝐫𝐤𝐢𝐧𝐠 —\nYou can park on Dovercourt Rd until Midnight\, you can park on Bloor st after midnight without restriction.\nThere are couple of Paid parking spaces near our venue: \n\n1022 Bloor St W\n1048 Bloor St W\n9 Salem Ave (Green P)\n7 Bartlett Ave (CarPark)\n745 Ossington Ave (Green P)\n\n\n\n\n\n\n\n\n\n\n\n\n\n\n\n\n\n \n 
URL:https://www.dovercourthouse.ca/event/sbk1/
LOCATION:Dovercourt House\, 805 Dovercourt Road\, Toronto\, Ontario\, Canada
ATTACH;FMTTYPE=image/jpeg:https://www.dovercourthouse.ca/wp-content/uploads/2025/02/sbk.jpg
END:VEVENT
BEGIN:VEVENT
DTSTART;TZID=America/Toronto:20260524T173000
DTEND;TZID=America/Toronto:20260524T230000
DTSTAMP:20260423T100831
CREATED:20250223T200205Z
LAST-MODIFIED:20260413T071747Z
UID:12557-1779643800-1779663600@www.dovercourthouse.ca
SUMMARY:Sunday Social Salsa Bachata
DESCRIPTION:Join us each and every Sunday at Dovercourt House\, where we are giving you the best of Salsa y Bachata. \nDate and Time: Sunday 5:45pm to 11pm \nDance Lessons at 6pm \n\nMulti Levels Salsa Lessons at 6pm by UnitedSalseros  (beginner\, Intermediate\, Advance) at the main floor\n\nSocial Dancing: Salsa and Bachata \nSalsa Music by DJ Pablo (First Floor) 7pm – 11pm \nBachata Music by DJ Mondo (Basement) 8pm – 11:30pm \n  \n \n  \n  Cover – Fee: $15 ($5 discount with pre-registeration on Friday) \n  \n  \nAddress: 805 Dovercourt Rd.\, Toronto   (walking distance from Ossington Subway Station) \n  \n— 𝐒𝐭𝐫𝐞𝐞𝐭 𝐏𝐚𝐫𝐤𝐢𝐧𝐠 𝐚𝐧𝐝 𝐏𝐚𝐢𝐝 𝐏𝐚𝐫𝐤𝐢𝐧𝐠 — You can park on Dovercourt Rd until Midnight\, you can park on Bloor st after midnight without restriction. There are couple of Paid parking spaces near our venue: \n\n1022 Bloor St W\n1048 Bloor St W\n9 Salem Ave (Green P)\n7 Bartlett Ave (CarPark)\n745 Ossington Ave (Green P)
URL:https://www.dovercourthouse.ca/event/sundaysb/
LOCATION:Dovercourt House\, 805 Dovercourt Road\, Toronto\, Ontario\, Canada
ATTACH;FMTTYPE=image/jpeg:https://www.dovercourthouse.ca/wp-content/uploads/2024/02/sunday-e1728436810165.jpg
END:VEVENT
BEGIN:VEVENT
DTSTART;TZID=America/Toronto:20260529T193000
DTEND;TZID=America/Toronto:20260530T030000
DTSTAMP:20260423T100831
CREATED:20250225T165214Z
LAST-MODIFIED:20260413T071830Z
UID:12576-1780083000-1780110000@www.dovercourthouse.ca
SUMMARY:Friday Latin Fusion
DESCRIPTION:When: Feb 20\, 2026\n\nWhere: \nDovercourt House\, 805 Dovercourt Rd. Toronto\n \n\nLesson: 8:00pm – 10:00pm\nSocial: 10:00pm – 3:00am\n\nWe are so happy to be back at Dovercourt House where we started our journey and celebrated many happy years at this legendary building. \nTwoDance Lessons and Two Party Rooms. \nDJs: Pablo and Duck \nOur DJs will be spinning your favorite salsa and bachata tunes. Social dancing is the best part of our event\, you don’t want to miss it. \nThree Dance lessons 8pm to 10pm: \n8pm: Salsa by Caryl and Angus\n9pm: Bachata Fusion Intermediate by Team Movement\n9pm: Bachata Fundamental by Teddy and United \nCover – Fee: $15 (No advance tickets\, it is a Walk-in event) \nNo outside drinks are allowed | \nNo Water Bottles are allowed! \nFREE self-service Coat-check (You are responsible for your own stuff). \nAddress: 805 Dovercourt Rd.\, Toronto   (walking distance from Ossington Subway Station) \n— 𝐒𝐭𝐫𝐞𝐞𝐭 𝐏𝐚𝐫𝐤𝐢𝐧𝐠 𝐚𝐧𝐝 𝐏𝐚𝐢𝐝 𝐏𝐚𝐫𝐤𝐢𝐧𝐠 —\nYou can park on Dovercourt Rd until Midnight\, you can park on Bloor st after midnight without restriction.\nThere are couple of Paid parking spaces near our venue: \n\n1022 Bloor St W\n1048 Bloor St W\n9 Salem Ave (Green P)\n7 Bartlett Ave (CarPark)\n745 Ossington Ave (Green P)\n\n 
URL:https://www.dovercourthouse.ca/event/fusion4/
LOCATION:Dovercourt House\, 805 Dovercourt Road\, Toronto\, Ontario\, Canada
ATTACH;FMTTYPE=image/png:https://www.dovercourthouse.ca/wp-content/uploads/2024/04/Fusion-general-e1735578420323.png
END:VEVENT
BEGIN:VEVENT
DTSTART;TZID=America/Toronto:20260531T173000
DTEND;TZID=America/Toronto:20260601T000000
DTSTAMP:20260423T100831
CREATED:20240112T011145Z
LAST-MODIFIED:20260413T071842Z
UID:11995-1780248600-1780272000@www.dovercourthouse.ca
SUMMARY:Sunday Social
DESCRIPTION:  \n\nJoin us each and every Sunday at Dovercourt House\, where we are giving you the best of Salsa y Bachata. \nDate and Time: Sunday 5:30pm to 11pm \nDance Lessons at 6pm \n\nMulti Levels Salsa Lessons at 6pm by UnitedSalseros  (beginner\, Intermediate\, Advance)\n Bachata Lesson at 7:15pm by Queen and Andrew\n\nSocial Dancing: 2 Rooms\, 2 DJs \nSalsa Music by DJ Timber (First Floor) 7pm – 11pm \nBachata Music by DJ Mondo (2nd Floor) 8pm – 11pm \n  \nShows and Performances: \n\nIfreestyle Ladies Team\n\n  \n  Cover – Fee: $15 ($5 discount with Friday registeration or unbroken wristband) \n  \nAddress: 805 Dovercourt Rd.\, Toronto   (walking distance from Ossington Subway Station) \n  \n— 𝐒𝐭𝐫𝐞𝐞𝐭 𝐏𝐚𝐫𝐤𝐢𝐧𝐠 𝐚𝐧𝐝 𝐏𝐚𝐢𝐝 𝐏𝐚𝐫𝐤𝐢𝐧𝐠 — You can park on Dovercourt Rd until Midnight\, you can park on Bloor st after midnight without restriction. There are couple of Paid parking spaces near our venue: \n\n1022 Bloor St W\n1048 Bloor St W\n9 Salem Ave (Green P)\n7 Bartlett Ave (CarPark)\n745 Ossington Ave (Green P)
URL:https://www.dovercourthouse.ca/event/sunday2/
LOCATION:Dovercourt House\, 805 Dovercourt Road\, Toronto\, Ontario\, Canada
ATTACH;FMTTYPE=image/jpeg:https://www.dovercourthouse.ca/wp-content/uploads/2023/09/shit-e1728436810165.jpg
END:VEVENT
END:VCALENDAR